BEGIN:VCALENDAR
VERSION:2.0
PRODID:-//My Community Diary//iCal Event//EN
CALSCALE:GREGORIAN
METHOD:PUBLISH
BEGIN:VEVENT
UID:2c53c5c8-3842-4c47-b63e-5300cefc1bb9
DTSTAMP:20260421T225727Z
DTSTART;TZID=E. Australia Standard Time:20260710T083000
DTEND;TZID=E. Australia Standard Time:20260710T160000
SUMMARY:Rockhampton Outdoor Adventure plus Home & Lifestyle Expo
DESCRIPTION:Your Passport to Freedom\n\nUnlock the ultimate lifestyle at the Rockhampton Outdoor Adventure plus Home &amp\; Lifestyle Expo where freedom meets possibility. Whether you crave off-grid escapes\, epic road trips\, or a stylish home upgrade\, this event is your gateway to inspiration.\n\nStep into a world of adventure-ready gear and home innovations designed to elevate every moment. From rugged caravans and powerful 4x4s to smart outdoor tech and chic living solutions\, discover what fits your dream life.\n\nWhat Awaits You:\n\n\n	Cutting-edge caravans\, campers\, hybrids &amp\; 4×4 vehicles\n	Next-level camping gear\, outdoor accessories &amp\; tech\n	Home improvement ideas\, décor trends &amp\; lifestyle must-haves\n	Travel destinations to spark your wanderlust\n	Live daily entertainment &amp\; family-friendly fun\n	Exclusive expo-only deals to kickstart your journey\n\n\nYour freedom starts here Explore\, plan\, and live the adventure your way.\n
LOCATION:\, Rockhampton Showgrounds\, New Exhibition Road\, Wandal QLD\, Australia\, QLD\, 4700
RRULE:FREQ=DAILY;INTERVAL=1;UNTIL=20260713T000000Z
END:VEVENT
END:VCALENDAR
