BEGIN:VCALENDAR
VERSION:2.0
PRODID:-//My Community Diary//iCal Event//EN
CALSCALE:GREGORIAN
METHOD:PUBLISH
BEGIN:VEVENT
UID:fc4d8fb1-2f89-444c-a5db-0b64801eb2ba
DTSTAMP:20260422T032433Z
DTSTART:20260430T080000Z
DTEND:20260430T170000Z
SUMMARY:Podiatry
DESCRIPTION:This event is provided by Institute for Urban Indigenous Health at CWAATSICH - Roma. Please confirm precise times with the service provider. (http://www.iuih.org.au/)\nInstitute for Urban Indigenous Health has experience in the following: very Experienced
LOCATION:\, 60A Charles Street\, Roma\, QLD\, 4455\, QLD\, 4455
END:VEVENT
END:VCALENDAR
