BEGIN:VCALENDAR
VERSION:2.0
PRODID:-//My Community Diary//iCal Event//EN
CALSCALE:GREGORIAN
METHOD:PUBLISH
BEGIN:VEVENT
UID:7dd00979-53a1-4992-9c25-8b02ca0dcb85
DTSTAMP:20260422T000543Z
DTSTART;TZID=AUS Eastern Standard Time:20260116T090000
DTEND;TZID=AUS Eastern Standard Time:20260116T100000
SUMMARY:Pilates
DESCRIPTION:Pilates class (no trainer on site - others will assist in instruction) all welcome.\n
LOCATION:North Arm Cove Community Centre\, The Ridgeway\, North Arm Cove NSW 2324\, NSW\, 2324
RRULE:FREQ=WEEKLY;INTERVAL=1;BYDAY=FR
END:VEVENT
END:VCALENDAR
