BEGIN:VCALENDAR
VERSION:2.0
PRODID:-//My Community Diary//iCal Event//EN
CALSCALE:GREGORIAN
METHOD:PUBLISH
BEGIN:VEVENT
UID:8b613fc4-07a9-4482-bdb7-5443616180a3
DTSTAMP:20260422T021158Z
DTSTART;TZID=AUS Eastern Standard Time:20260509T103000
DTEND;TZID=AUS Eastern Standard Time:20260509T143000
SUMMARY:Canberra Miniature Railway Public Running Day
DESCRIPTION:The Canberra Miniature Railway is open to the public on our advertised running days and nights. Come and ride the wonderful railway behind perfect miniatures of real locomotives. Great fun for big and little kids.\n\nUnlimited rides $15 (3 years and over) if pre-purchased or $18 at the entry gate.\nSingle ride tickets are available for $4 at the entry gate.\n\nVisit our&nbsp\;website&nbsp\;for more details.\n
LOCATION:Canberra Miniature Railway\, 501 Jerrabomberra Avenue\, Narrabundah ACT 2604\, ACT\, 2604
END:VEVENT
END:VCALENDAR
