BEGIN:VCALENDAR
VERSION:2.0
PRODID:-//My Community Diary//iCal Event//EN
CALSCALE:GREGORIAN
METHOD:PUBLISH
BEGIN:VEVENT
UID:ccbcbc7d-14bf-4f06-81c2-06d1e828b1d7
DTSTAMP:20260422T033520Z
DTSTART;TZID=E. Australia Standard Time:20260111T183000
DTEND;TZID=E. Australia Standard Time:20260111T203000
SUMMARY:Dragon Boat Come n Try
DESCRIPTION:Tied of spending time in the gym\, or would like to do cross-training for another paddle sport - come and try dragon boating for a full body workout.&nbsp\;\n
LOCATION:Northern Grounds Hotel \, 42-46 David Low Way\, Maroochydore QLD 4558\, QLD
RRULE:FREQ=WEEKLY;INTERVAL=1;BYDAY=SU
END:VEVENT
END:VCALENDAR
