BEGIN:VCALENDAR
VERSION:2.0
PRODID:-//My Community Diary//iCal Event//EN
CALSCALE:GREGORIAN
METHOD:PUBLISH
BEGIN:VEVENT
UID:41a9ba7c-6d80-4ab3-9261-2ac4eca059a8
DTSTAMP:20260422T033651Z
DTSTART;TZID=AUS Eastern Standard Time:20260426T103000
DTEND;TZID=AUS Eastern Standard Time:20260426T143000
SUMMARY:Canberra Miniature Railway Public Running Day
DESCRIPTION:The Canberra Miniature Railway is open to the public on our advertised running days and nights. Come and ride the wonderful railway behind perfect miniatures of real locomotives. Great fun for big and little kids.\n\nUnlimited rides $15 (3 years and over) if pre-purchased or $18 at the entry gate.\nSingle ride tickets are available for $4 at the entry gate.\n\nVisit our website for more details.\n
LOCATION:Canberra Miniature Railway\, 501 Jerrabomberra Avenue\, Narrabundah ACT 2604\, ACT\, 2604
END:VEVENT
END:VCALENDAR
