BEGIN:VCALENDAR
VERSION:2.0
PRODID:-//My Community Diary//iCal Event//EN
CALSCALE:GREGORIAN
METHOD:PUBLISH
BEGIN:VEVENT
UID:a5c4bef6-31ec-4ec1-9c49-afdb7d35d654
DTSTAMP:20260424T160801Z
DTSTART;VALUE=DATE:20200108
DTEND;VALUE=DATE:20200109
SUMMARY:RFDS GP Clinic - Greenvale
DESCRIPTION:Royal Flying Doctor Service of Australia (Queensland Section). To confirm precise times and to book an appointment please call 07 4040 0444.\n\nPlease be aware of limited/changing&nbsp\;consultation times due to flight manifest.\n\n&nbsp\;\n
LOCATION:Greenvale JES Building\, Redbank Drive\, Greenvale QLD\, Australia\, QLD
RRULE:FREQ=WEEKLY;INTERVAL=1;BYDAY=WE
END:VEVENT
END:VCALENDAR
