BEGIN:VCALENDAR
VERSION:2.0
PRODID:-//My Community Diary//iCal Event//EN
CALSCALE:GREGORIAN
METHOD:PUBLISH
BEGIN:VEVENT
UID:2f95016e-85b7-439b-9a38-1b89f8d9399a
DTSTAMP:20260422T072345Z
DTSTART;TZID=AUS Eastern Standard Time:20260103T100000
DTEND;TZID=AUS Eastern Standard Time:20260103T130000
SUMMARY:Free Meal
DESCRIPTION:Free sit down hot meal and food to take away\n\nEvery Monday\, Tuesday\, Wednesday and Friday 10am-1pm\n
LOCATION:St Benedicts Community Centre\, 21 Brigalow Street\, Karabar NSW 2620\, NSW\, 2620
RRULE:FREQ=WEEKLY;INTERVAL=1;BYDAY=MO,TU,WE,FR
END:VEVENT
END:VCALENDAR
