BEGIN:VCALENDAR
VERSION:2.0
PRODID:-//My Community Diary//iCal Event//EN
CALSCALE:GREGORIAN
METHOD:PUBLISH
BEGIN:VEVENT
UID:be0c258c-728d-4a78-ad6c-3f7a21698775
DTSTAMP:20260422T054527Z
DTSTART;TZID=AUS Eastern Standard Time:20260513T100000
DTEND;TZID=AUS Eastern Standard Time:20260513T113000
SUMMARY:Wagga Vinnies Multicultural Playgroup\, Term 2
DESCRIPTION:Vinnies invites families in Wagga and surrounds to join a free playgroup for children aged 0 to 5 years. The playgroup will be held on Wednesday mornings for 7 weeks from mid-May to late-June&nbsp\;2026.\n\nFamilies from diverse backgrounds are especially welcome.\n
LOCATION:Mary Kidson Hall\, Mary Kidson Hall\, Turvey Park NSW\, Australia\, NSW\, 2650
RRULE:FREQ=WEEKLY;INTERVAL=1;BYDAY=WE;COUNT=7
END:VEVENT
END:VCALENDAR
