BEGIN:VCALENDAR
VERSION:2.0
PRODID:-//My Community Diary//iCal Event//EN
CALSCALE:GREGORIAN
METHOD:PUBLISH
BEGIN:VEVENT
UID:a6e291be-9efa-4cfc-b6b0-802532c93cdb
DTSTAMP:20260422T001007Z
DTSTART;TZID=AUS Eastern Standard Time:20260105T120000
DTEND;TZID=AUS Eastern Standard Time:20260105T130000
SUMMARY:Free Lunch
DESCRIPTION:Free lunch served from midday every Monday and Wednesday\n
LOCATION:Early Morning Centre\, 69 Northbourne Avenue\, Canberra ACT 2601\, ACT\, 2601
RRULE:FREQ=WEEKLY;INTERVAL=1;BYDAY=MO,WE
END:VEVENT
END:VCALENDAR
