BEGIN:VCALENDAR
VERSION:2.0
PRODID:-//My Community Diary//iCal Event//EN
CALSCALE:GREGORIAN
METHOD:PUBLISH
BEGIN:VEVENT
UID:a85be88b-8571-4229-8ca1-a29dc319bc5a
DTSTAMP:20260422T003014Z
DTSTART;TZID=AUS Eastern Standard Time:20260105T090000
DTEND;TZID=AUS Eastern Standard Time:20260105T130000
SUMMARY:Early Morning Centre Morning Tea
DESCRIPTION:Morning Tea\n
LOCATION:Early Morning Centre\, 69 Northbourne Avenue\, Canberra ACT 2601\, ACT\, 2601
RRULE:FREQ=WEEKLY;INTERVAL=1;BYDAY=SA,SU
END:VEVENT
END:VCALENDAR
