BEGIN:VCALENDAR
VERSION:2.0
PRODID:-//My Community Diary//iCal Event//EN
CALSCALE:GREGORIAN
METHOD:PUBLISH
BEGIN:VEVENT
UID:aa0c4f36-3b54-42a8-a776-25c80c1520ee
DTSTAMP:20260422T013840Z
DTSTART;TZID=AUS Eastern Standard Time:20260105T090000
DTEND;TZID=AUS Eastern Standard Time:20260105T140000
SUMMARY:Hot Drinks
DESCRIPTION:Hot drinks served during Community Hub hours\n
LOCATION:Early Morning Centre\, 69 Northbourne Avenue\, Canberra ACT 2601\, ACT\, 2601
RRULE:FREQ=WEEKLY;INTERVAL=1;BYDAY=MO,TU,WE,TH,FR
END:VEVENT
END:VCALENDAR
