BEGIN:VCALENDAR
VERSION:2.0
PRODID:-//My Community Diary//iCal Event//EN
CALSCALE:GREGORIAN
METHOD:PUBLISH
BEGIN:VEVENT
UID:98b6d015-18d1-4416-b4f0-83b7b1994f16
DTSTAMP:20260422T032210Z
DTSTART:20260611T080000Z
DTEND:20260611T170000Z
SUMMARY:Diabetes Education
DESCRIPTION:This event is provided by Sugarmates at Goondir Health Services - Oakey. Please confirm precise times with the service provider. (https://ahdiabetes.com.au/)\nSugarmates has experience in the following: Providing diabetes education to both Aboriginal and Torres Strait Islander community\nfor over 10yrs
LOCATION:\, 110 Campbell Street\, Oakey\, QLD\, 4401\, QLD\, 4401
END:VEVENT
END:VCALENDAR
