BEGIN:VCALENDAR
VERSION:2.0
PRODID:-//My Community Diary//iCal Event//EN
CALSCALE:GREGORIAN
METHOD:PUBLISH
BEGIN:VEVENT
UID:b347a7ef-259d-40ca-89be-02257c7703d1
DTSTAMP:20260422T035710Z
DTSTART;VALUE=DATE:20260530
DTEND;VALUE=DATE:20260531
SUMMARY:2026 Canberra Winter Gemcraft & Mineral Show
DESCRIPTION:Date: Sat 30 - Sun 31 May 2026\n\nTime: Sat 10am to 5pm\,&nbsp\; Sun 10am to 4pm\n\nVenue:Entry:&nbsp\; $8 Adults. $5 Concession Free Under 16\n\nSales: Gem\, Mineral\, Jewellery &amp\; Lapidary dealers selling minerals\, fossils\, jewellery\, rough &amp\; cut gemstones\, crystals\, opals and beads.\n\nOther: Displays of members’ collections\, faceting demonstration.\n\nAge of Fishes Museum - Information &amp\; Fossil Exhibits\n\n&nbsp\;\n
LOCATION:Exhibition Park (EPIC) - Mallee Pavillion\, Flemington Road\, Mitchell ACT\, Australia\, ACT\, 2911
END:VEVENT
END:VCALENDAR
