BEGIN:VCALENDAR
VERSION:2.0
PRODID:-//My Community Diary//iCal Event//EN
CALSCALE:GREGORIAN
METHOD:PUBLISH
BEGIN:VEVENT
UID:82024382-0992-465b-b173-5639be5b98d9
DTSTAMP:20260421T225735Z
DTSTART;TZID=E. Australia Standard Time:20261009T090000
DTEND;TZID=E. Australia Standard Time:20261009T150000
SUMMARY:RDE - Regional Disability and Seniors Expo - Toowoomba
DESCRIPTION:RDE is a great experience for anyone who’s life may have been affected by someone living with a disability and/or the age care sector.\n\nThe expo provides information on supports\, products and services for people with disabilities\, their families and carers.\n\nThe opportunity is there to ask questions\, allowing carers\, family\, friends\, and individuals to make more informed choices.\n\nRegional Disability Expo (RDE) is committed to transforming the lives of disabled and elderly individuals in Regional Australia. \nA truly unique event aimed at bringing the disability and elderly communities together to celebrate life\, age\, empower\, learn\, share and experience latest technologies\, all in one central space.\nAreas covered by Exhibitors include:\n• Health and Fitness\n• Employment and Education\n• Post School Options\n• Advocacy\n• Social Activities and Recreation\n• Transport and Vehicles\n• Independent Living Services and Products\n• Assistance Products\n• Support Service Providers\n• NDIS Services\n
LOCATION:Clive Berghofer Recreation Centre\, 20 Baker Street\, Darling Heights QLD\, Australia\, QLD\, 4350
END:VEVENT
END:VCALENDAR
