BEGIN:VCALENDAR
VERSION:2.0
PRODID:-//My Community Diary//iCal Event//EN
CALSCALE:GREGORIAN
METHOD:PUBLISH
BEGIN:VEVENT
UID:bffbb757-70a8-48b7-aadf-077f9e565645
DTSTAMP:20260422T002936Z
DTSTART:20260518T130000Z
DTEND:20260518T170000Z
SUMMARY:Cardiac Physiology
DESCRIPTION:This event is provided by Metro South Hospital and Health Service at Kingaroy Hospital . Please confirm precise times with the service provider. (metrosouth.health.qld.gov.au/princess-alexandra-hospital)\nMetro South Hospital and Health Service has experience in the following: please refer to email.
LOCATION:\, 166 Youngman Street\, KINGAROY\, QLD\, 4610\, QLD\, 4610
END:VEVENT
END:VCALENDAR
