BEGIN:VCALENDAR
VERSION:2.0
PRODID:-//My Community Diary//iCal Event//EN
CALSCALE:GREGORIAN
METHOD:PUBLISH
BEGIN:VEVENT
UID:7455c792-8ed6-429f-8ce3-0634821eb1ad
DTSTAMP:20260422T015636Z
DTSTART:20260512T080000Z
DTEND:20260512T170000Z
SUMMARY:Physician - Geriatrics
DESCRIPTION:This event is provided by Metro South Hospital and Health Service at Roma Hospital. Please confirm precise times with the service provider. (metrosouth.health.qld.gov.au/princess-alexandra-hospital)\nMetro South Hospital and Health Service has experience in the following: please refer to email.
LOCATION:\, 197 McDowall Street\, Roma\, QLD\, 4455\, QLD\, 4455
END:VEVENT
END:VCALENDAR
