BEGIN:VCALENDAR
VERSION:2.0
PRODID:-//My Community Diary//iCal Event//EN
CALSCALE:GREGORIAN
METHOD:PUBLISH
BEGIN:VEVENT
UID:468edb1f-d164-44d6-9ae1-2bd57ac044b7
DTSTAMP:20260422T035759Z
DTSTART:20260507T080000Z
DTEND:20260507T170000Z
SUMMARY:Physician - Cardiology
DESCRIPTION:This event is provided by Metro South Hospital and Health Service at Goondiwindi Hospital. Please confirm precise times with the service provider. (metrosouth.health.qld.gov.au/princess-alexandra-hospital)\nMetro South Hospital and Health Service has experience in the following: please refer to email.
LOCATION:\, 4 Bowen Street\, Goondiwindi\, QLD\, 4390\, QLD\, 4390
END:VEVENT
END:VCALENDAR
