BEGIN:VCALENDAR
VERSION:2.0
PRODID:-//My Community Diary//iCal Event//EN
CALSCALE:GREGORIAN
METHOD:PUBLISH
BEGIN:VEVENT
UID:396d1ed7-d2ee-4733-9883-2fef16d5b699
DTSTAMP:20260421T222544Z
DTSTART;TZID=AUS Eastern Standard Time:20260618T193000
DTEND;TZID=AUS Eastern Standard Time:20260618T220000
SUMMARY:Pride And Prejudice* (*sort of)
DESCRIPTION:The five-star musical comedy sensation\, PRIDE AND PREJUDICE* (*sort of)\, is finally heading Down Under.\n\nNeil Gooding Productions and Woodward Productions Present\nby arrangement with David Pugh Limited\nPRIDE AND PREJUDICE* (*sort of)\nBY\nIsobel McArthur after Jane Austen\n\nDirect from its triumph in the West End where it won the Laurence Olivier Award for Best Comedy\, Pride and Prejudice* (*sort of) is a unique and audacious retelling of Jane Austen’s most iconic love story. Men\, money and microphones will be fought over in this irreverent but affectionate adaptation where the stakes couldn’t be higher when it comes to romance.\n\nThis “smart\, laugh out loud funny” (Daily Telegraph) show features a string of pop classics including ‘Young Hearts Run Free’\, ‘Will You Love Me Tomorrow’ and ‘You’re So Vain’.\nComing to Australia for the first time\, five fearless women bring Austen’s world of love\, class and chaos to life with heart\, humour and unstoppable energy in this modern take on one of the world’s most adapted pieces of literature\n\n?????\n“Faithful to the book\, it’s also a raucously irreverent romp”\n— Daily Mail\n?????\n“Riotously funny… gloriously entertaining… frankly sensational”\n— Variety\n?????\n“Layer and layer of brilliance”\n— The Scotsman\n
LOCATION:Atheneum Theatre\, 188 Collins St\, Melbourne VIC 3000\, Australia\, VIC\, 3000
RRULE:FREQ=WEEKLY;INTERVAL=1;BYDAY=TU,WE,TH,FR,SA,SU;UNTIL=20260712T000000Z
END:VEVENT
END:VCALENDAR
