BEGIN:VCALENDAR
VERSION:2.0
PRODID:-//My Community Diary//iCal Event//EN
CALSCALE:GREGORIAN
METHOD:PUBLISH
BEGIN:VEVENT
UID:1a3e1016-9d53-43a7-89be-9a05082947bb
DTSTAMP:20260424T175723Z
DTSTART;TZID=AUS Eastern Standard Time:20200131T100000
DTEND;TZID=AUS Eastern Standard Time:20200131T160000
SUMMARY:Captain Fantastic Cartoon Art Exhibition
DESCRIPTION:Featuring all the best from the Captain Fantastic Cartoon Competition\, this exhibition is a salute to Sir Elton John himself as our finest cartoonists portray him in a satirical and comical light. With works in all shapes\, sizes\, and mediums\, this exhibition is full of variety and features one of the world’s most colourful characters! It’s bound to entertain!\n\nWith Elton on tour in the country and performing in Coffs Harbour… who knows\, maybe he’ll come and check it out too!\n\nThe exhibition runs until 29 March. General admission is Adults $6\, Under 16s $4\, Friends and Under 5s Free.\n
LOCATION:National Cartoon Gallery\, John Champion Way\, City Hill\, Coffs Harbour NSW 2450\, NSW\, 2450
RRULE:FREQ=DAILY;INTERVAL=1;UNTIL=20200330T000000Z
END:VEVENT
END:VCALENDAR
