BEGIN:VCALENDAR
VERSION:2.0
PRODID:-//My Community Diary//iCal Event//EN
CALSCALE:GREGORIAN
METHOD:PUBLISH
BEGIN:VEVENT
UID:bcdd9c64-1811-49ae-a396-de00eb9a3dbd
DTSTAMP:20260422T000704Z
DTSTART:20260609T080000Z
DTEND:20260609T120000Z
SUMMARY:Optometry
DESCRIPTION:This event is provided by Joanne Stower at Goondir Health Services - Oakey. Please confirm precise times with the service provider.
LOCATION:\, 110 Campbell Street\, Oakey\, QLD\, 4401\, QLD\, 4401
END:VEVENT
END:VCALENDAR
