BEGIN:VCALENDAR
VERSION:2.0
PRODID:-//My Community Diary//iCal Event//EN
CALSCALE:GREGORIAN
METHOD:PUBLISH
BEGIN:VEVENT
UID:3be00516-06c0-4aea-acf5-e35c09d80617
DTSTAMP:20260421T224319Z
DTSTART:20260603T080000Z
DTEND:20260603T170000Z
SUMMARY:Physiotherapy
DESCRIPTION:This event is provided by Entirely Health at The CQ Family Practice. Please confirm precise times with the service provider. (http://entirelyhealth.com.au)
LOCATION:\, 41 Morgan Street\, Mount Morgan\, QLD\, 4714\, QLD\, 4714
END:VEVENT
END:VCALENDAR
