BEGIN:VCALENDAR
VERSION:2.0
PRODID:-//My Community Diary//iCal Event//EN
CALSCALE:GREGORIAN
METHOD:PUBLISH
BEGIN:VEVENT
UID:d42ebe01-f258-43ed-bbf9-13336fa9603d
DTSTAMP:20260422T002941Z
DTSTART:20260506T080000Z
DTEND:20260506T170000Z
SUMMARY:Physiotherapy
DESCRIPTION:This event is provided by Entirely Health at The CQ Family Practice. Please confirm precise times with the service provider. (http://entirelyhealth.com.au)
LOCATION:\, 41 Morgan Street\, Mount Morgan\, QLD\, 4714\, QLD\, 4714
END:VEVENT
END:VCALENDAR
