BEGIN:VCALENDAR
VERSION:2.0
PRODID:-//My Community Diary//iCal Event//EN
CALSCALE:GREGORIAN
METHOD:PUBLISH
BEGIN:VEVENT
UID:f40348e5-30e5-4fd1-9c68-4aae521df779
DTSTAMP:20260422T014623Z
DTSTART:20260422T080000Z
DTEND:20260422T170000Z
SUMMARY:Physiotherapy
DESCRIPTION:This event is provided by Entirely Health at The CQ Family Practice. Please confirm precise times with the service provider. (http://entirelyhealth.com.au)
LOCATION:\, 41 Morgan Street\, Mount Morgan\, QLD\, 4714\, QLD\, 4714
END:VEVENT
END:VCALENDAR
