BEGIN:VCALENDAR
VERSION:2.0
PRODID:-//My Community Diary//iCal Event//EN
CALSCALE:GREGORIAN
METHOD:PUBLISH
BEGIN:VEVENT
UID:f169abd1-c735-41a0-bab9-b3e2ef81ff8b
DTSTAMP:20260421T222241Z
DTSTART:20260529T080000Z
DTEND:20260529T170000Z
SUMMARY:General Practitioner
DESCRIPTION:This event is provided by True Relationships & Reproductive Health at Mount Morgan Hospital / Mount Morgan Multipurpose Health Service. Please confirm precise times with the service provider. (www.true.org.au)\nTrue Relationships & Reproductive Health has experience in the following: Tue supports any indigenous clients that wish to be seen in any of our clinical settings.
LOCATION:\, Black Street\, Mount Morgan\, QLD\, 4714\, QLD\, 4714
END:VEVENT
END:VCALENDAR
