BEGIN:VCALENDAR
VERSION:2.0
PRODID:-//My Community Diary//iCal Event//EN
CALSCALE:GREGORIAN
METHOD:PUBLISH
BEGIN:VEVENT
UID:e365c257-c1af-489e-b2fa-ce22d651f2c5
DTSTAMP:20260421T224119Z
DTSTART:20260605T080000Z
DTEND:20260605T170000Z
SUMMARY:Physician - Cardiology
DESCRIPTION:This event is provided by Heart of Australia at Heart Of Australia Van Clinic - Stanthorpe. Please confirm precise times with the service provider. (https://heartofaustralia.com.au/)\nHeart of Australia has experience in the following: Working closely with Health Service Goondir in Dalby\, CWAATSICH in Charleville\, Quilpie & Roma
LOCATION:\, Stanthorpe\, QLD\, 4380\, QLD\, 4380
END:VEVENT
END:VCALENDAR
