BEGIN:VCALENDAR
VERSION:2.0
PRODID:-//My Community Diary//iCal Event//EN
CALSCALE:GREGORIAN
METHOD:PUBLISH
BEGIN:VEVENT
UID:bd63be76-5083-4f83-8bbc-df11e08e39db
DTSTAMP:20260424T160628Z
DTSTART:20240901T120000Z
DTEND:20240901T160000Z
SUMMARY:Dean Kite Festival
DESCRIPTION:The Dean Kite Festival is a family-friendly opportunity to have some good old fashioned fun flying a kite. \n\nLearn how to make a kite of your own to fly and take home. There are professional\, award-winning kite-flying enthusiasts on hand showcasing their wonderfully colourful and novel kites. \n\nTake the opportunity to enjoy country hospitality with a sausage sizzle and homemade afternoon tea available.
LOCATION:\, 1370 Ballarat-Daylesford Road\, Dean\, VIC 3363\, VIC\, 3363
END:VEVENT
END:VCALENDAR
