BEGIN:VCALENDAR
VERSION:2.0
PRODID:-//My Community Diary//iCal Event//EN
CALSCALE:GREGORIAN
METHOD:PUBLISH
BEGIN:VEVENT
UID:5b476ef1-0a2e-46f2-b8d1-901b39e208f0
DTSTAMP:20260424T164342Z
DTSTART:20220212T010000Z
DTEND:20220212T160000Z
SUMMARY:Ballarat Farmers Market
DESCRIPTION:Ballarat Farmers Market takes place in central Ballarat near the shores of beautiful Lake Wendouree. \n\nThe market runs all year round and has 50 to 90 or more stalls depending on the season. Enjoy a coffee van\, hot food cooked on the spot\, fresh vegetables\, fruit\, bread\, olive oil\, cheese\, jams\, chutneys and sauces\, clothing\, fudge\, gifts\, health bars\, eggs\, honey\, wine\, Cornish pasties\, fresh ground coffee\, yummy biscuits and hand-made jewellery. \n \nCraft\, clothing and gift stalls are available\, as well as a range of dry goods (flours\, grains\, pulses\, dried fruit\, herbs\, herbal teas\, nuts and much more) and plants\, including natives\, edibles and succulents. The market is set in large park lands north of the Ballarat Botanical Gardens. Stroll under the dappled shade of mature trees as you enjoy the market before a visit to the lake or gardens.  \n\nMany stalls are seasonal local producers and the range is different at every market. There really is something for everyone.\n\nThe market operates on the second and fourth Saturday of each month - except in December when they run the usual market on the Second Saturday then a Twilight Christmas Market on the Friday before Christmas.
LOCATION:\, Zoo Drive\, Lake Wendouree\, VIC 3350\, VIC\, 3350
RRULE:FREQ=DAILY;INTERVAL=1;UNTIL=20240728T000000Z
END:VEVENT
END:VCALENDAR
