BEGIN:VCALENDAR
VERSION:2.0
PRODID:-//My Community Diary//iCal Event//EN
CALSCALE:GREGORIAN
METHOD:PUBLISH
BEGIN:VEVENT
UID:40498db5-c356-4442-8632-fd4e2d002b20
DTSTAMP:20260421T205436Z
DTSTART:20260430T080000Z
DTEND:20260430T170000Z
SUMMARY:Psychology
DESCRIPTION:This event is provided by DA Peters & LE Peters at MIDIN CLINIC. Please confirm precise times with the service provider. (www.actpsychology.com.au)\nDA Peters & LE Peters has experience in the following: Provision of Psychological services to Indigenous Clients for 20 years
LOCATION:\, 31-33 Robert Street\, Atherton\, QLD\, 4883\, QLD\, 4883
END:VEVENT
END:VCALENDAR
