BEGIN:VCALENDAR
VERSION:2.0
PRODID:-//My Community Diary//iCal Event//EN
CALSCALE:GREGORIAN
METHOD:PUBLISH
BEGIN:VEVENT
UID:6b5ca906-0798-401c-ba4d-9e1a07f7fb50
DTSTAMP:20260422T065553Z
DTSTART:20260422T080000Z
DTEND:20260422T170000Z
SUMMARY:Physician - Surgery - Ear Nose & Throat
DESCRIPTION:This event is provided by Matthew Broadhurst at Roma Hospital. Please confirm precise times with the service provider. (www.entdoctor.com.au)\nMatthew Broadhurst has experience in the following: Has been providing Medical Services to Aboriginal and/or Torres Strait Islander patients in Roma.
LOCATION:\, 197 McDowall Street\, Roma\, QLD\, 4455\, QLD\, 4455
END:VEVENT
END:VCALENDAR
