BEGIN:VCALENDAR
VERSION:2.0
PRODID:-//My Community Diary//iCal Event//EN
CALSCALE:GREGORIAN
METHOD:PUBLISH
BEGIN:VEVENT
UID:0a8c9d33-5e94-4a70-a4ae-e6598606322b
DTSTAMP:20260424T160636Z
DTSTART:20230601T100000Z
DTEND:20230601T130000Z
SUMMARY:Tasting Train
DESCRIPTION:Food lovers looking for things to do on the Sunshine Coast should look no further than Gympie’s wonderful Mary Valley as it boasts amazing produce and producers!\n\nThe Mary Valley Rattler Tasting Train is a fun experience for the whole family! Hop on board the Heritage  2000 Class Railmotor – which traditionally ran the Brooloo line to Gympie providing a daily link to the town for shopping\, the transportation of goods\, and a means for children to get to school.\n\nCelebrate all that the region has to offer on their historic rail motor experience. Includes an on-board Tasting Plate and lunch at the historic Gympie Station featuring a set local seasonal menu and a beverage of your choice. \n\nSavour delicious food and drinks and take in the stunning scenery as the Rattler glides across the Mary River\, curls around picturesque rolling hills\, and through the small township of Dagun. \n\nThis bumpy\, jumpy and delicious experience is not to be missed!\n\nEntry Cost\nAll tickets $125  - Children under 2 not occupying a seat are free of charge
LOCATION:\, 10 Tozer Street\, Gympie\, QLD 4570\, QLD\, 4570
RRULE:FREQ=WEEKLY;INTERVAL=1;BYDAY=TH;UNTIL=20240726T000000Z
END:VEVENT
END:VCALENDAR
