BEGIN:VCALENDAR
VERSION:2.0
PRODID:-//My Community Diary//iCal Event//EN
CALSCALE:GREGORIAN
METHOD:PUBLISH
BEGIN:VEVENT
UID:ceb2c798-588c-4295-aa85-e872c547aaa3
DTSTAMP:20260424T083942Z
DTSTART;TZID=E. Australia Standard Time:20251017T100000
DTEND;TZID=E. Australia Standard Time:20251017T120000
SUMMARY:Ageing Well Morning Tea
DESCRIPTION:Ageing Well Morning Tea for Seniors\n\nA free\, Fun and Informative Event\n\nA morning tea\, Entertainment and a short Infromation Session\n\nHeld 3rd Friday of the Month 10am-12 noon\n\nAt Granite Belt Neighbourhood Centre\n\n15 Hilton St Stanthorpe\n
LOCATION:Granite Belt Neighbourhood Centre\, 15 Hilton St\, Stanthorpe QLD\, Australia\, QLD\, 4380
RRULE:FREQ=MONTHLY;INTERVAL=1;BYDAY=3MO;COUNT=12
END:VEVENT
END:VCALENDAR
