BEGIN:VCALENDAR
VERSION:2.0
PRODID:-//My Community Diary//iCal Event//EN
CALSCALE:GREGORIAN
METHOD:PUBLISH
BEGIN:VEVENT
UID:2a83fa1b-97b6-4707-a730-6e3307f43878
DTSTAMP:20260421T222532Z
DTSTART:20260603T080000Z
DTEND:20260603T170000Z
SUMMARY:Optometry Student
DESCRIPTION:This event is provided by Queensland University of Technology at Nambour General Hospital. Please confirm precise times with the service provider. (www.healthclinics.qut.edu.au)\nQueensland University of Technology has experience in the following: Has been providing outreach optometry to these communities since 2010 (Cherbourg) and 2012 (North Co
LOCATION:\, Hospital Road\, Nambour\, QLD\, 4560\, QLD\, 4560
END:VEVENT
END:VCALENDAR
