BEGIN:VCALENDAR
VERSION:2.0
PRODID:-//My Community Diary//iCal Event//EN
CALSCALE:GREGORIAN
METHOD:PUBLISH
BEGIN:VEVENT
UID:8ed3e4e9-d441-474c-ac9d-096ef8e224b5
DTSTAMP:20260421T222643Z
DTSTART:20260424T080000Z
DTEND:20260424T170000Z
SUMMARY:Optometry Student
DESCRIPTION:This event is provided by Queensland University of Technology at Caloundra Health Service. Please confirm precise times with the service provider. (www.healthclinics.qut.edu.au)\nQueensland University of Technology has experience in the following: Has been providing outreach optometry to these communities since 2010 (Cherbourg) and 2012 (North Co
LOCATION:\, West Terrace\, Caloundra\, QLD\, 4551\, QLD\, 4551
END:VEVENT
END:VCALENDAR
