BEGIN:VCALENDAR
VERSION:2.0
PRODID:-//My Community Diary//iCal Event//EN
CALSCALE:GREGORIAN
METHOD:PUBLISH
BEGIN:VEVENT
UID:69e8dff3-2c11-48e9-8478-7bf4a2eb4f91
DTSTAMP:20260422T050005Z
DTSTART:20260603T080000Z
DTEND:20260603T120000Z
SUMMARY:Diabetes Education - Credentialled
DESCRIPTION:This event is provided by Diabetes Australia at Maranoa Medical Centre. Please confirm precise times with the service provider. (https://www.diabetesaustralia.com.au/queensland/)
LOCATION:\, 27 Quintin Street\, ROMA\, QLD\, 4455\, QLD\, 4455
END:VEVENT
END:VCALENDAR
