BEGIN:VCALENDAR
VERSION:2.0
PRODID:-//My Community Diary//iCal Event//EN
CALSCALE:GREGORIAN
METHOD:PUBLISH
BEGIN:VEVENT
UID:68c08eb2-610b-4945-ac0a-a3508c806f7d
DTSTAMP:20260422T021942Z
DTSTART:20260602T080000Z
DTEND:20260602T170000Z
SUMMARY:Diabetes Education - Credentialled
DESCRIPTION:This event is provided by Diabetes Australia at Maranoa Medical Centre. Please confirm precise times with the service provider. (https://www.diabetesaustralia.com.au/queensland/)
LOCATION:\, 27 Quintin Street\, ROMA\, QLD\, 4455\, QLD\, 4455
END:VEVENT
END:VCALENDAR
