BEGIN:VCALENDAR
VERSION:2.0
PRODID:-//My Community Diary//iCal Event//EN
CALSCALE:GREGORIAN
METHOD:PUBLISH
BEGIN:VEVENT
UID:c01d7ae5-2489-4d83-ac1f-aceb15811712
DTSTAMP:20260422T035607Z
DTSTART:20260601T130000Z
DTEND:20260601T170000Z
SUMMARY:Diabetes Education - Credentialled
DESCRIPTION:This event is provided by Diabetes Australia at Maranoa Medical Centre. Please confirm precise times with the service provider. (https://www.diabetesaustralia.com.au/queensland/)
LOCATION:\, 27 Quintin Street\, ROMA\, QLD\, 4455\, QLD\, 4455
END:VEVENT
END:VCALENDAR
