BEGIN:VCALENDAR
VERSION:2.0
PRODID:-//My Community Diary//iCal Event//EN
CALSCALE:GREGORIAN
METHOD:PUBLISH
BEGIN:VEVENT
UID:83271fd6-1ac7-4208-bed0-2fd887b0e6ec
DTSTAMP:20260422T020158Z
DTSTART:20260505T080000Z
DTEND:20260505T170000Z
SUMMARY:Diabetes Education - Credentialled
DESCRIPTION:This event is provided by Diabetes Australia at Maranoa Medical Centre. Please confirm precise times with the service provider. (https://www.diabetesaustralia.com.au/queensland/)
LOCATION:\, 27 Quintin Street\, ROMA\, QLD\, 4455\, QLD\, 4455
END:VEVENT
END:VCALENDAR
