BEGIN:VCALENDAR
VERSION:2.0
PRODID:-//My Community Diary//iCal Event//EN
CALSCALE:GREGORIAN
METHOD:PUBLISH
BEGIN:VEVENT
UID:a132399d-a16d-4310-a397-68eda0a80f64
DTSTAMP:20260422T015649Z
DTSTART;TZID=AUS Eastern Standard Time:20251013T100000
DTEND;TZID=AUS Eastern Standard Time:20251013T113000
SUMMARY:WalkSoccer - (Wetherill Park LGA)
DESCRIPTION:Hi\, I would like to promote and invite you to the upcoming FREE Walking Football NSW’s WalkSoccer Come n’ Try sessions.\n\nWalkSoccer promotes healthy aging and is a fun and inclusive way to lead an active lifestyle. This modified version of soccer emphasises walking\, teamwork\, and enjoyment in a non-contact\, welcoming environment. WalkSoccer is primarily aimed at women aged 40 years or older and men aged 50 years or older\, who can play safely in a non-contact game.\n\nWalkSoccer meets the UN's Sustainable Development Goal [UN-SDG] 3\, regarding "Good Health and Well-being"\, established by the United Nations and supports healthy living and promotion of well-being for all at all ages.\n\nAll About Safety:\n\n\n	No running\, no contact\, no high balls\, and no goalkeepers—ensuring a safe and supportive environment for everyone.\n\n\nAll About Fun:\n\n\n	Enjoy small-sided games designed for all skill levels.\n	Stay active and connect with a vibrant community.\n	Come alone\, bring a friend\, or even a group - there’s a place for everyone!\n\n\nWhat to Expect:\n\n\n	Smaller teams\, reduced field sizes\, and shorter matches—perfect for maximum fun and connection.\n	A secure and inclusive atmosphere\, open to individuals of all abilities\, genders\, and ethnic backgrounds.\n	Support for participants facing health challenges or confidence issues\, making sports accessible to everyone.\n\n\nWho Can Join?\n\n\n	Women aged 40+ and men aged 50+\, whether you’re new to soccer or a lifelong fan\, WalkSoccer offers an opportunity to stay active\, improve physical and mental well-being\, and be part of a supportive community.\n\n
LOCATION:Walking Football NSW - Wetherill Park (Fairfield LGA)\, 1022 The Horsley Drive\, Wetherill Park NSW 2164\, NSW\, 2164
RRULE:FREQ=WEEKLY;INTERVAL=1;BYDAY=MO
END:VEVENT
END:VCALENDAR
