BEGIN:VCALENDAR
VERSION:2.0
PRODID:-//My Community Diary//iCal Event//EN
CALSCALE:GREGORIAN
METHOD:PUBLISH
BEGIN:VEVENT
UID:446196a9-d150-4027-a228-376b5b3f9c83
DTSTAMP:20260423T144003Z
DTSTART:20260604T080000Z
DTEND:20260604T170000Z
SUMMARY:Diabetes Education
DESCRIPTION:This event is provided by Sugarmates at Carbal Medical Centre Warwick. Please confirm precise times with the service provider. (https://ahdiabetes.com.au/)\nSugarmates has experience in the following: Providing diabetes education to both Aboriginal and Torres Strait Islander community\nfor over 10yrs
LOCATION:\, 55 Wood Street\, Warwick\, QLD\, 4370\, QLD\, 4370
END:VEVENT
END:VCALENDAR
