BEGIN:VCALENDAR
VERSION:2.0
PRODID:-//My Community Diary//iCal Event//EN
CALSCALE:GREGORIAN
METHOD:PUBLISH
BEGIN:VEVENT
UID:beaa7214-9281-41be-aa5f-3793d45d4894
DTSTAMP:20260422T032104Z
DTSTART;TZID=AUS Eastern Standard Time:20250925T110000
DTEND;TZID=AUS Eastern Standard Time:20250925T130000
SUMMARY:Catholic Care Community Kitchen
DESCRIPTION:CatholicCare Social Services Hunter-Manning has proudly supported the Hamilton South community for many years through our Community Kitchen previously located at Hamilton South Hall&nbsp\;providing a warm welcome and hundreds of nutritious meals to local residents each week.\n\nThanks to an exciting NEW&nbsp\;partnership with the Livefree Project\, we will continue providing food support to Hamilton South residents from 486 Glebe Road\, Adamstown.\n\nWhen: Each&nbsp\;Wednesday from 17 September 2025 onwards. Time: 11am-1pm.\n\nWe are deeply grateful to our volunteers\, donors\, and community members who have supported the Hamilton South Community Kitchen over the years. Everyone is welcome&nbsp\;and we look forward to seeing you at Livefree.\n
LOCATION:LIVEfree\, 486 Glebe Road\, Adamstown NSW\, Australia\, NSW\, 2289
RRULE:FREQ=WEEKLY;INTERVAL=1;BYDAY=WE
END:VEVENT
END:VCALENDAR
