BEGIN:VCALENDAR
VERSION:2.0
PRODID:-//My Community Diary//iCal Event//EN
CALSCALE:GREGORIAN
METHOD:PUBLISH
BEGIN:VEVENT
UID:551668d0-084b-4ad8-b6d6-07158ec21f46
DTSTAMP:20260422T000654Z
DTSTART:20260507T080000Z
DTEND:20260507T120000Z
SUMMARY:Exercise Physiology
DESCRIPTION:This event is provided by Vital Health Qld at CWAATSICH - Roma. Please confirm precise times with the service provider. (http://vitalhealthqld.com.au)\nVital Health Qld has experience in the following: Vital Health has had vast experience working with Aboriginal communities...it won't let me type anym
LOCATION:\, 60A Charles Street\, Roma\, QLD\, 4455\, QLD\, 4455
END:VEVENT
END:VCALENDAR
