BEGIN:VCALENDAR
VERSION:2.0
PRODID:-//My Community Diary//iCal Event//EN
CALSCALE:GREGORIAN
METHOD:PUBLISH
BEGIN:VEVENT
UID:ea207957-922e-4e40-9762-6cef3f2cbb9b
DTSTAMP:20260421T224256Z
DTSTART:20260423T130000Z
DTEND:20260423T170000Z
SUMMARY:Exercise Physiology
DESCRIPTION:This event is provided by Vital Health Qld at CWAATSICH - Roma. Please confirm precise times with the service provider. (http://vitalhealthqld.com.au)\nVital Health Qld has experience in the following: Vital Health has had vast experience working with Aboriginal communities...it won't let me type anym
LOCATION:\, 60A Charles Street\, Roma\, QLD\, 4455\, QLD\, 4455
END:VEVENT
END:VCALENDAR
