BEGIN:VCALENDAR
VERSION:2.0
PRODID:-//My Community Diary//iCal Event//EN
CALSCALE:GREGORIAN
METHOD:PUBLISH
BEGIN:VEVENT
UID:7c3a4649-5e55-41c7-9faa-8cc46f5c16fd
DTSTAMP:20260422T015809Z
DTSTART:20260618T080000Z
DTEND:20260618T120000Z
SUMMARY:Physiotherapy
DESCRIPTION:This event is provided by Vital Health Qld at CWAATSICH - Roma. Please confirm precise times with the service provider. (http://vitalhealthqld.com.au)\nVital Health Qld has experience in the following: Vital Health has had vast experience working with Aboriginal communities...it won't let me type anym
LOCATION:\, 60A Charles Street\, Roma\, QLD\, 4455\, QLD\, 4455
END:VEVENT
END:VCALENDAR
