BEGIN:VCALENDAR
VERSION:2.0
PRODID:-//My Community Diary//iCal Event//EN
CALSCALE:GREGORIAN
METHOD:PUBLISH
BEGIN:VEVENT
UID:197a8757-2e25-4ec7-91d1-df9fc8f875ea
DTSTAMP:20260422T013838Z
DTSTART:20260528T080000Z
DTEND:20260528T120000Z
SUMMARY:Dietetics
DESCRIPTION:This event is provided by Vital Health Qld at CWAATSICH - Roma. Please confirm precise times with the service provider. (http://vitalhealthqld.com.au)\nVital Health Qld has experience in the following: Vital Health has had vast experience working with Aboriginal communities...it won't let me type anym
LOCATION:\, 60A Charles Street\, Roma\, QLD\, 4455\, QLD\, 4455
END:VEVENT
END:VCALENDAR
