BEGIN:VCALENDAR
VERSION:2.0
PRODID:-//My Community Diary//iCal Event//EN
CALSCALE:GREGORIAN
METHOD:PUBLISH
BEGIN:VEVENT
UID:d6a8a65b-a6df-4874-871c-6a45b08b428a
DTSTAMP:20260421T222644Z
DTSTART:20260624T080000Z
DTEND:20260624T170000Z
SUMMARY:Optometry Assistance
DESCRIPTION:This event is provided by Altitude Eyewear at Stephen Island Primary Health Centre. Please confirm precise times with the service provider.\nAltitude Eyewear has experience in the following: I have been delivering optometric services to the Torres Strait and Bamaga communities since 2006
LOCATION:\, Orankie Street\, Stephen Island\, QLD\, 4875\, QLD\, 4875
END:VEVENT
END:VCALENDAR
