BEGIN:VCALENDAR
VERSION:2.0
PRODID:-//My Community Diary//iCal Event//EN
CALSCALE:GREGORIAN
METHOD:PUBLISH
BEGIN:VEVENT
UID:8f7028a9-bd00-48d8-8f70-19ff0c21867d
DTSTAMP:20260422T015824Z
DTSTART;VALUE=DATE:20260826
DTEND;VALUE=DATE:20260827
SUMMARY:Leeton Eisteddfod
DESCRIPTION:Leeton Eisteddfod is recognised as one of the most outstanding cultural events in western New South Wales. This event is a showcase of talent in music\, ballet\, speech and drama\, literature\, and highland dancing. \n\nThe recently refurbished Roxy Theatre will host the 2025 Leeton Eisteddfod\n\nPrograms are available from Leeton Trophy and Gift Centre\, Leeton Newsagency\, from the website and at the door.\n\nThis is a wonderful event for the entire family!
LOCATION:\, 114-118 Pine Avenue\, Leeton\, NSW 2705\, NSW\, 2705
RRULE:FREQ=DAILY;INTERVAL=1;UNTIL=20260828T000000Z
END:VEVENT
END:VCALENDAR
