BEGIN:VCALENDAR
VERSION:2.0
PRODID:-//My Community Diary//iCal Event//EN
CALSCALE:GREGORIAN
METHOD:PUBLISH
BEGIN:VEVENT
UID:af253c56-ba16-48ed-bcad-348f9f8464f8
DTSTAMP:20260423T124401Z
DTSTART;VALUE=DATE:20260819
DTEND;VALUE=DATE:20260820
SUMMARY:Leeton Eisteddfod
DESCRIPTION:Leeton Eisteddfod is recognised as one of the most outstanding cultural events in western New South Wales. This event is a showcase of talent in music\, ballet\, speech and drama\, literature\, and highland dancing. \n\nThe recently refurbished Roxy Theatre will host the 2025 Leeton Eisteddfod\n\nPrograms are available from Leeton Trophy and Gift Centre\, Leeton Newsagency\, from the website and at the door.\n\nThis is a wonderful event for the entire family!
LOCATION:\, 114-118 Pine Avenue\, Leeton\, NSW 2705\, NSW\, 2705
RRULE:FREQ=DAILY;INTERVAL=1;UNTIL=20260821T000000Z
END:VEVENT
END:VCALENDAR
