BEGIN:VCALENDAR
VERSION:2.0
PRODID:-//My Community Diary//iCal Event//EN
CALSCALE:GREGORIAN
METHOD:PUBLISH
BEGIN:VEVENT
UID:0c843dc3-bf98-4bbd-b3e6-9c08a813cc49
DTSTAMP:20260422T002825Z
DTSTART;VALUE=DATE:20260814
DTEND;VALUE=DATE:20260815
SUMMARY:Kings of Country Rock: Eagles Vs Creedence - Griffith
DESCRIPTION:A two-hour stage spectacular that captures the sounds and excitement of America's country rock icons.\n\nThe Kings of Country Rock concert features all the timeless rock and roll classics that defined the Eagles and Creedence Clearwater Revival as 1970s superstars.\n\nPart one of the highly-acclaimed show takes the audience on a musical journey of the Eagles\, the highest-selling American band in U.S. Audience members will hear faithfully reproduced masterpieces such as Take It Easy\, Witchy Woman\, Already Gone\, One of These Nights\, Lyin’ Eyes\, Take It to the Limit\, New Kid in Town\, Desperado\, Hotel California and Life in the Fast Lane.\n\nPart two of the show kicks into overdrive\, featuring the chart-topping sounds of San Francisco’s favourite sons\, Creedence Clearwater Revival. With more than 26 million album sales in the U.S. alone\, it was CCR’s take on Dale Hawkins’ rockabilly classic Suzie Q that set an irrepressible force in motion and made the band a platinum household name. CCR anthems such as Proud Mary\, Bad Moon Rising\, Up Around The Bend\, Born On The Bayou\, Have You Ever Seen The Rain\, Travelin’ Band and Green River will surely get the audience singing a chorus of hits.\n\nThe Kings of Country Rock Tour is the ultimate rock experience! The cast of multi-talented and internationally respected musicians brings to life a stage show like no other.
LOCATION:\, 1 Neville Place\, Griffith\, NSW 2680\, NSW\, 2680
END:VEVENT
END:VCALENDAR
