BEGIN:VCALENDAR
VERSION:2.0
PRODID:-//My Community Diary//iCal Event//EN
CALSCALE:GREGORIAN
METHOD:PUBLISH
BEGIN:VEVENT
UID:ce54f075-f487-48c1-886c-3bc0a7f4642e
DTSTAMP:20260422T021149Z
DTSTART;VALUE=DATE:20261031
DTEND;VALUE=DATE:20261101
SUMMARY:Halloween Dusk 2 Dawn
DESCRIPTION:This will be the eigth year of Halloween Dusk 2 Dawn.\n\nSpooky night trail running through the Cairncross State Forest. Five races to choose from over a seven-kilometre lap course.\n\nSee the gentle yellow flickers from the brave souls that dare to trick or treat running or riding through the forest. Will the runners be guided by the faint lights or growing daylight?\n\nMidnight sees a change of direction for all runners already lost in the forest. It also sees the brave souls of the Midnight Half Marathon start. Dressed up to trick or treat through the seven-kilometre forest course. \nSo take your pick or even attempt a couple of events.\n\nOnly those who are game will take on the forest\, only the strongest will survive.
LOCATION:\, Pembrooke\, NSW 2446\, NSW\, 2446
RRULE:FREQ=DAILY;INTERVAL=1;UNTIL=20261102T000000Z
END:VEVENT
END:VCALENDAR
